BEGIN:VCALENDAR
VERSION:2.0
PRODID:-//Tukios.com/
BEGIN:VEVENT
UID:fb7d1050-4306-4ebb-9470-b06226c137e5@www.sheafuneralhomes.com
DTSTAMP:20260420T180833Z
DTSTART:20260423T150000Z
DTEND:20260423T160000Z
SUMMARY:Funeral Service
DESCRIPTION:
URL:https://www.sheafuneralhomes.com/obituaries/louis-petra
LOCATION: 398 Bonnet Street  Manchester VT 05255
GEO:43.1825083;-73.0572765
END:VEVENT
END:VCALENDAR