BEGIN:VCALENDAR
VERSION:2.0
PRODID:-//Tukios.com/
BEGIN:VEVENT
UID:f2a0030c-633f-4f55-b86f-46677b93d9e3@www.sheafuneralhomes.com
DTSTAMP:20260420T180521Z
DTSTART:20260422T200000Z
DTEND:20260422T230000Z
SUMMARY:Visitation
DESCRIPTION:
URL:https://www.sheafuneralhomes.com/obituaries/louis-petra
LOCATION: 34 Park Place  Manchester VT 05255
GEO:43.1777176;-73.0521725
END:VEVENT
END:VCALENDAR