BEGIN:VCALENDAR
VERSION:2.0
PRODID:-//Tukios.com/
BEGIN:VEVENT
UID:0718eaaa-ceaf-4673-9dcd-0f0d7d75139a@www.sheafuneralhomes.com
DTSTAMP:20260421T182352Z
DTSTART:20260429T170000Z
DTEND:20260429T180000Z
SUMMARY:Graveside Service
DESCRIPTION:
URL:https://www.sheafuneralhomes.com/obituaries/bernard-rougeau
LOCATION:Oakhill Cemetery 110 Burrington Rd  Pownal VT 05261
GEO:42.7715923;-73.2350682
END:VEVENT
END:VCALENDAR